BEGIN:VCALENDAR
VERSION:2.0
PRODID:-//Randolph County Senior Center - ECPv6.15.20//NONSGML v1.0//EN
CALSCALE:GREGORIAN
METHOD:PUBLISH
X-WR-CALNAME:Randolph County Senior Center
X-ORIGINAL-URL:https://www.randolphcountyseniorcenter.com
X-WR-CALDESC:Events for Randolph County Senior Center
REFRESH-INTERVAL;VALUE=DURATION:PT1H
X-Robots-Tag:noindex
X-PUBLISHED-TTL:PT1H
BEGIN:VTIMEZONE
TZID:UTC
BEGIN:STANDARD
TZOFFSETFROM:+0000
TZOFFSETTO:+0000
TZNAME:UTC
DTSTART:20250101T000000
END:STANDARD
END:VTIMEZONE
BEGIN:VEVENT
DTSTART;VALUE=DATE:20260119
DTEND;VALUE=DATE:20260120
DTSTAMP:20260423T082235
CREATED:20260105T174649Z
LAST-MODIFIED:20260105T174649Z
UID:10018223-1768780800-1768867199@www.randolphcountyseniorcenter.com
SUMMARY:Closed for MLK Day
DESCRIPTION:
URL:https://www.randolphcountyseniorcenter.com/event/closed-for-mlk-day-2/
CATEGORIES:Activities
END:VEVENT
BEGIN:VEVENT
DTSTART;VALUE=DATE:20260120
DTEND;VALUE=DATE:20260121
DTSTAMP:20260423T082235
CREATED:20260105T174750Z
LAST-MODIFIED:20260105T174750Z
UID:10018226-1768867200-1768953599@www.randolphcountyseniorcenter.com
SUMMARY:10:00 Quilting Class
DESCRIPTION:
URL:https://www.randolphcountyseniorcenter.com/event/1000-quilting-class-5/2026-01-20/
CATEGORIES:Activities
END:VEVENT
BEGIN:VEVENT
DTSTART;VALUE=DATE:20260120
DTEND;VALUE=DATE:20260121
DTSTAMP:20260423T082235
CREATED:20260105T174834Z
LAST-MODIFIED:20260105T174834Z
UID:10018230-1768867200-1768953599@www.randolphcountyseniorcenter.com
SUMMARY:10:30 Rook
DESCRIPTION:
URL:https://www.randolphcountyseniorcenter.com/event/1030-rook-6/2026-01-20/
CATEGORIES:Activities
END:VEVENT
BEGIN:VEVENT
DTSTART;VALUE=DATE:20260120
DTEND;VALUE=DATE:20260121
DTSTAMP:20260423T082235
CREATED:20260105T174851Z
LAST-MODIFIED:20260105T174851Z
UID:10018234-1768867200-1768953599@www.randolphcountyseniorcenter.com
SUMMARY:12:30 Mahjong
DESCRIPTION:
URL:https://www.randolphcountyseniorcenter.com/event/1230-mahjong-7/2026-01-20/
CATEGORIES:Activities
END:VEVENT
BEGIN:VEVENT
DTSTART;VALUE=DATE:20260120
DTEND;VALUE=DATE:20260121
DTSTAMP:20260423T082235
CREATED:20260105T174914Z
LAST-MODIFIED:20260105T174914Z
UID:10018238-1768867200-1768953599@www.randolphcountyseniorcenter.com
SUMMARY:12:30 - 1:00 Beg. Dulcimer Class / 1:00 - 2:15 Reg. Dulcimer Class
DESCRIPTION:
URL:https://www.randolphcountyseniorcenter.com/event/1230-100-beg-dulcimer-class-100-215-reg-dulcimer-class/2026-01-20/
CATEGORIES:Activities
END:VEVENT
BEGIN:VEVENT
DTSTART;VALUE=DATE:20260121
DTEND;VALUE=DATE:20260122
DTSTAMP:20260423T082235
CREATED:20260105T174500Z
LAST-MODIFIED:20260105T174500Z
UID:10018214-1768953600-1769039999@www.randolphcountyseniorcenter.com
SUMMARY:11:00 Exercise Class
DESCRIPTION:
URL:https://www.randolphcountyseniorcenter.com/event/1100-exercise-class-11/2026-01-21/
CATEGORIES:Activities
END:VEVENT
BEGIN:VEVENT
DTSTART;VALUE=DATE:20260121
DTEND;VALUE=DATE:20260122
DTSTAMP:20260423T082235
CREATED:20260105T175045Z
LAST-MODIFIED:20260105T175045Z
UID:10018242-1768953600-1769039999@www.randolphcountyseniorcenter.com
SUMMARY:10:00 Horse Race Game
DESCRIPTION:
URL:https://www.randolphcountyseniorcenter.com/event/1000-horse-race-game-15/
CATEGORIES:Activities
END:VEVENT
BEGIN:VEVENT
DTSTART;VALUE=DATE:20260121
DTEND;VALUE=DATE:20260122
DTSTAMP:20260423T082235
CREATED:20260105T175124Z
LAST-MODIFIED:20260105T175124Z
UID:10018245-1768953600-1769039999@www.randolphcountyseniorcenter.com
SUMMARY:12:30 - 2:15 Hammer Dulcimer
DESCRIPTION:
URL:https://www.randolphcountyseniorcenter.com/event/1230-215-hammer-dulcimer-8/2026-01-21/
CATEGORIES:Activities
END:VEVENT
BEGIN:VEVENT
DTSTART;VALUE=DATE:20260121
DTEND;VALUE=DATE:20260122
DTSTAMP:20260423T082235
CREATED:20260105T175142Z
LAST-MODIFIED:20260105T175142Z
UID:10018249-1768953600-1769039999@www.randolphcountyseniorcenter.com
SUMMARY:1:30 - 3:30 Mahjong
DESCRIPTION:
URL:https://www.randolphcountyseniorcenter.com/event/130-330-mahjong-6/2026-01-21/
CATEGORIES:Activities
END:VEVENT
BEGIN:VEVENT
DTSTART;VALUE=DATE:20260122
DTEND;VALUE=DATE:20260123
DTSTAMP:20260423T082235
CREATED:20260105T175305Z
LAST-MODIFIED:20260105T175305Z
UID:10018253-1769040000-1769126399@www.randolphcountyseniorcenter.com
SUMMARY:1:00 - 2:00 Guitar Class
DESCRIPTION:
URL:https://www.randolphcountyseniorcenter.com/event/100-200-guitar-class-11/
CATEGORIES:Activities
END:VEVENT
BEGIN:VEVENT
DTSTART;VALUE=DATE:20260122
DTEND;VALUE=DATE:20260123
DTSTAMP:20260423T082235
CREATED:20260105T175335Z
LAST-MODIFIED:20260105T175335Z
UID:10018256-1769040000-1769126399@www.randolphcountyseniorcenter.com
SUMMARY:1:00 Weaving Class
DESCRIPTION:
URL:https://www.randolphcountyseniorcenter.com/event/100-weaving-class-8/2026-01-22/
CATEGORIES:Activities
END:VEVENT
BEGIN:VEVENT
DTSTART;VALUE=DATE:20260123
DTEND;VALUE=DATE:20260124
DTSTAMP:20260423T082235
CREATED:20260105T174500Z
LAST-MODIFIED:20260105T174500Z
UID:10018215-1769126400-1769212799@www.randolphcountyseniorcenter.com
SUMMARY:11:00 Exercise Class
DESCRIPTION:
URL:https://www.randolphcountyseniorcenter.com/event/1100-exercise-class-11/2026-01-23/
CATEGORIES:Activities
END:VEVENT
BEGIN:VEVENT
DTSTART;VALUE=DATE:20260123
DTEND;VALUE=DATE:20260124
DTSTAMP:20260423T082235
CREATED:20260105T175447Z
LAST-MODIFIED:20260105T175447Z
UID:10018261-1769126400-1769212799@www.randolphcountyseniorcenter.com
SUMMARY:10:00 Crochet Class
DESCRIPTION:
URL:https://www.randolphcountyseniorcenter.com/event/1000-crochet-class-7/2026-01-23/
CATEGORIES:Activities
END:VEVENT
BEGIN:VEVENT
DTSTART;VALUE=DATE:20260123
DTEND;VALUE=DATE:20260124
DTSTAMP:20260423T082235
CREATED:20260105T175517Z
LAST-MODIFIED:20260105T175517Z
UID:10018266-1769126400-1769212799@www.randolphcountyseniorcenter.com
SUMMARY:12:30 Bridge
DESCRIPTION:
URL:https://www.randolphcountyseniorcenter.com/event/1230-bridge-8/2026-01-23/
CATEGORIES:Activities
END:VEVENT
BEGIN:VEVENT
DTSTART;VALUE=DATE:20260126
DTEND;VALUE=DATE:20260127
DTSTAMP:20260423T082235
CREATED:20260105T174500Z
LAST-MODIFIED:20260105T174500Z
UID:10018216-1769385600-1769471999@www.randolphcountyseniorcenter.com
SUMMARY:11:00 Exercise Class
DESCRIPTION:
URL:https://www.randolphcountyseniorcenter.com/event/1100-exercise-class-11/2026-01-26/
CATEGORIES:Activities
END:VEVENT
BEGIN:VEVENT
DTSTART;VALUE=DATE:20260126
DTEND;VALUE=DATE:20260127
DTSTAMP:20260423T082235
CREATED:20260105T174550Z
LAST-MODIFIED:20260105T174550Z
UID:10018221-1769385600-1769471999@www.randolphcountyseniorcenter.com
SUMMARY:1:00 Native American Style Flute
DESCRIPTION:
URL:https://www.randolphcountyseniorcenter.com/event/100-native-american-style-flute/2026-01-26/
CATEGORIES:Activities
END:VEVENT
BEGIN:VEVENT
DTSTART;VALUE=DATE:20260127
DTEND;VALUE=DATE:20260128
DTSTAMP:20260423T082235
CREATED:20260105T174750Z
LAST-MODIFIED:20260105T174750Z
UID:10018227-1769472000-1769558399@www.randolphcountyseniorcenter.com
SUMMARY:10:00 Quilting Class
DESCRIPTION:
URL:https://www.randolphcountyseniorcenter.com/event/1000-quilting-class-5/2026-01-27/
CATEGORIES:Activities
END:VEVENT
BEGIN:VEVENT
DTSTART;VALUE=DATE:20260127
DTEND;VALUE=DATE:20260128
DTSTAMP:20260423T082235
CREATED:20260105T174834Z
LAST-MODIFIED:20260105T174834Z
UID:10018231-1769472000-1769558399@www.randolphcountyseniorcenter.com
SUMMARY:10:30 Rook
DESCRIPTION:
URL:https://www.randolphcountyseniorcenter.com/event/1030-rook-6/2026-01-27/
CATEGORIES:Activities
END:VEVENT
BEGIN:VEVENT
DTSTART;VALUE=DATE:20260127
DTEND;VALUE=DATE:20260128
DTSTAMP:20260423T082236
CREATED:20260105T174851Z
LAST-MODIFIED:20260105T174851Z
UID:10018235-1769472000-1769558399@www.randolphcountyseniorcenter.com
SUMMARY:12:30 Mahjong
DESCRIPTION:
URL:https://www.randolphcountyseniorcenter.com/event/1230-mahjong-7/2026-01-27/
CATEGORIES:Activities
END:VEVENT
BEGIN:VEVENT
DTSTART;VALUE=DATE:20260127
DTEND;VALUE=DATE:20260128
DTSTAMP:20260423T082236
CREATED:20260105T174914Z
LAST-MODIFIED:20260105T174914Z
UID:10018239-1769472000-1769558399@www.randolphcountyseniorcenter.com
SUMMARY:12:30 - 1:00 Beg. Dulcimer Class / 1:00 - 2:15 Reg. Dulcimer Class
DESCRIPTION:
URL:https://www.randolphcountyseniorcenter.com/event/1230-100-beg-dulcimer-class-100-215-reg-dulcimer-class/2026-01-27/
CATEGORIES:Activities
END:VEVENT
BEGIN:VEVENT
DTSTART;VALUE=DATE:20260128
DTEND;VALUE=DATE:20260129
DTSTAMP:20260423T082236
CREATED:20260105T174500Z
LAST-MODIFIED:20260105T174500Z
UID:10018217-1769558400-1769644799@www.randolphcountyseniorcenter.com
SUMMARY:11:00 Exercise Class
DESCRIPTION:
URL:https://www.randolphcountyseniorcenter.com/event/1100-exercise-class-11/2026-01-28/
CATEGORIES:Activities
END:VEVENT
BEGIN:VEVENT
DTSTART;VALUE=DATE:20260128
DTEND;VALUE=DATE:20260129
DTSTAMP:20260423T082236
CREATED:20260105T175124Z
LAST-MODIFIED:20260105T175124Z
UID:10018246-1769558400-1769644799@www.randolphcountyseniorcenter.com
SUMMARY:12:30 - 2:15 Hammer Dulcimer
DESCRIPTION:
URL:https://www.randolphcountyseniorcenter.com/event/1230-215-hammer-dulcimer-8/2026-01-28/
CATEGORIES:Activities
END:VEVENT
BEGIN:VEVENT
DTSTART;VALUE=DATE:20260128
DTEND;VALUE=DATE:20260129
DTSTAMP:20260423T082236
CREATED:20260105T175142Z
LAST-MODIFIED:20260105T175142Z
UID:10018250-1769558400-1769644799@www.randolphcountyseniorcenter.com
SUMMARY:1:30 - 3:30 Mahjong
DESCRIPTION:
URL:https://www.randolphcountyseniorcenter.com/event/130-330-mahjong-6/2026-01-28/
CATEGORIES:Activities
END:VEVENT
BEGIN:VEVENT
DTSTART;VALUE=DATE:20260129
DTEND;VALUE=DATE:20260130
DTSTAMP:20260423T082236
CREATED:20260105T175335Z
LAST-MODIFIED:20260105T175335Z
UID:10018257-1769644800-1769731199@www.randolphcountyseniorcenter.com
SUMMARY:1:00 Weaving Class
DESCRIPTION:
URL:https://www.randolphcountyseniorcenter.com/event/100-weaving-class-8/2026-01-29/
CATEGORIES:Activities
END:VEVENT
BEGIN:VEVENT
DTSTART;VALUE=DATE:20260130
DTEND;VALUE=DATE:20260131
DTSTAMP:20260423T082236
CREATED:20260105T174500Z
LAST-MODIFIED:20260105T174500Z
UID:10018218-1769731200-1769817599@www.randolphcountyseniorcenter.com
SUMMARY:11:00 Exercise Class
DESCRIPTION:
URL:https://www.randolphcountyseniorcenter.com/event/1100-exercise-class-11/2026-01-30/
CATEGORIES:Activities
END:VEVENT
BEGIN:VEVENT
DTSTART;VALUE=DATE:20260130
DTEND;VALUE=DATE:20260131
DTSTAMP:20260423T082236
CREATED:20260105T175447Z
LAST-MODIFIED:20260105T175447Z
UID:10018262-1769731200-1769817599@www.randolphcountyseniorcenter.com
SUMMARY:10:00 Crochet Class
DESCRIPTION:
URL:https://www.randolphcountyseniorcenter.com/event/1000-crochet-class-7/2026-01-30/
CATEGORIES:Activities
END:VEVENT
BEGIN:VEVENT
DTSTART;VALUE=DATE:20260130
DTEND;VALUE=DATE:20260131
DTSTAMP:20260423T082236
CREATED:20260105T175517Z
LAST-MODIFIED:20260105T175517Z
UID:10018267-1769731200-1769817599@www.randolphcountyseniorcenter.com
SUMMARY:12:30 Bridge
DESCRIPTION:
URL:https://www.randolphcountyseniorcenter.com/event/1230-bridge-8/2026-01-30/
CATEGORIES:Activities
END:VEVENT
BEGIN:VEVENT
DTSTART;VALUE=DATE:20260202
DTEND;VALUE=DATE:20260203
DTSTAMP:20260423T082236
CREATED:20260202T132935Z
LAST-MODIFIED:20260202T132935Z
UID:10018293-1769990400-1770076799@www.randolphcountyseniorcenter.com
SUMMARY:10:00 Card Bingo
DESCRIPTION:
URL:https://www.randolphcountyseniorcenter.com/event/1000-card-bingo-14/
CATEGORIES:Activities
END:VEVENT
BEGIN:VEVENT
DTSTART;VALUE=DATE:20260202
DTEND;VALUE=DATE:20260203
DTSTAMP:20260423T082236
CREATED:20260202T133107Z
LAST-MODIFIED:20260202T133107Z
UID:10018295-1769990400-1770076799@www.randolphcountyseniorcenter.com
SUMMARY:11:00 Exercise Class
DESCRIPTION:
URL:https://www.randolphcountyseniorcenter.com/event/1100-exercise-class-12/2026-02-02/
CATEGORIES:Activities
END:VEVENT
BEGIN:VEVENT
DTSTART;VALUE=DATE:20260202
DTEND;VALUE=DATE:20260203
DTSTAMP:20260423T082236
CREATED:20260202T133157Z
LAST-MODIFIED:20260202T133157Z
UID:10018306-1769990400-1770076799@www.randolphcountyseniorcenter.com
SUMMARY:1:00 Native American Style Flute
DESCRIPTION:
URL:https://www.randolphcountyseniorcenter.com/event/100-native-american-style-flute-2/2026-02-02/
CATEGORIES:Activities
END:VEVENT
END:VCALENDAR