BEGIN:VCALENDAR
VERSION:2.0
PRODID:-//Randolph County Senior Center - ECPv6.15.20//NONSGML v1.0//EN
CALSCALE:GREGORIAN
METHOD:PUBLISH
X-ORIGINAL-URL:https://www.randolphcountyseniorcenter.com
X-WR-CALDESC:Events for Randolph County Senior Center
REFRESH-INTERVAL;VALUE=DURATION:PT1H
X-Robots-Tag:noindex
X-PUBLISHED-TTL:PT1H
BEGIN:VTIMEZONE
TZID:UTC
BEGIN:STANDARD
TZOFFSETFROM:+0000
TZOFFSETTO:+0000
TZNAME:UTC
DTSTART:20240101T000000
END:STANDARD
END:VTIMEZONE
BEGIN:VEVENT
DTSTART;VALUE=DATE:20251119
DTEND;VALUE=DATE:20251120
DTSTAMP:20260423T010419
CREATED:20251113T123330Z
LAST-MODIFIED:20251113T123330Z
UID:10018141-1763510400-1763596799@www.randolphcountyseniorcenter.com
SUMMARY:12:30 - 2:15 Hammer Dulcimer
DESCRIPTION:
URL:https://www.randolphcountyseniorcenter.com/event/1230-215-hammer-dulcimer-7/2025-11-19/
CATEGORIES:Activities
END:VEVENT
BEGIN:VEVENT
DTSTART;VALUE=DATE:20251119
DTEND;VALUE=DATE:20251120
DTSTAMP:20260423T010419
CREATED:20251113T123349Z
LAST-MODIFIED:20251113T123349Z
UID:10018145-1763510400-1763596799@www.randolphcountyseniorcenter.com
SUMMARY:1:30 - 3:30 Mahjong
DESCRIPTION:
URL:https://www.randolphcountyseniorcenter.com/event/130-330-mahjong-5/2025-11-19/
CATEGORIES:Activities
END:VEVENT
BEGIN:VEVENT
DTSTART;VALUE=DATE:20251120
DTEND;VALUE=DATE:20251121
DTSTAMP:20260423T010419
CREATED:20251113T123646Z
LAST-MODIFIED:20251113T123646Z
UID:10018149-1763596800-1763683199@www.randolphcountyseniorcenter.com
SUMMARY:1:00 - 2:00 Guitar Class
DESCRIPTION:
URL:https://www.randolphcountyseniorcenter.com/event/100-200-guitar-class-9/
CATEGORIES:Activities
END:VEVENT
BEGIN:VEVENT
DTSTART;VALUE=DATE:20251120
DTEND;VALUE=DATE:20251121
DTSTAMP:20260423T010419
CREATED:20251113T123710Z
LAST-MODIFIED:20251113T123710Z
UID:10018152-1763596800-1763683199@www.randolphcountyseniorcenter.com
SUMMARY:1:00 Weaving Class
DESCRIPTION:
URL:https://www.randolphcountyseniorcenter.com/event/100-weaving-class-7/2025-11-20/
CATEGORIES:Activities
END:VEVENT
BEGIN:VEVENT
DTSTART;VALUE=DATE:20251121
DTEND;VALUE=DATE:20251122
DTSTAMP:20260423T010419
CREATED:20251113T124020Z
LAST-MODIFIED:20251113T124020Z
UID:10018155-1763683200-1763769599@www.randolphcountyseniorcenter.com
SUMMARY:10:00 Crochet Class
DESCRIPTION:
URL:https://www.randolphcountyseniorcenter.com/event/1000-crochet-class-6/2025-11-21/
CATEGORIES:Activities
END:VEVENT
BEGIN:VEVENT
DTSTART;VALUE=DATE:20251121
DTEND;VALUE=DATE:20251122
DTSTAMP:20260423T010419
CREATED:20251113T124043Z
LAST-MODIFIED:20251113T124043Z
UID:10018158-1763683200-1763769599@www.randolphcountyseniorcenter.com
SUMMARY:11:00 Exercise Class
DESCRIPTION:
URL:https://www.randolphcountyseniorcenter.com/event/1100-exercise-class-10/2025-11-21/
CATEGORIES:Activities
END:VEVENT
BEGIN:VEVENT
DTSTART;VALUE=DATE:20251121
DTEND;VALUE=DATE:20251122
DTSTAMP:20260423T010419
CREATED:20251113T124053Z
LAST-MODIFIED:20251113T124053Z
UID:10018161-1763683200-1763769599@www.randolphcountyseniorcenter.com
SUMMARY:12:30 Bridge
DESCRIPTION:
URL:https://www.randolphcountyseniorcenter.com/event/1230-bridge-7/2025-11-21/
CATEGORIES:Activities
END:VEVENT
BEGIN:VEVENT
DTSTART;VALUE=DATE:20251124
DTEND;VALUE=DATE:20251125
DTSTAMP:20260423T010419
CREATED:20251113T122457Z
LAST-MODIFIED:20251113T122457Z
UID:10018116-1763942400-1764028799@www.randolphcountyseniorcenter.com
SUMMARY:11:00 Exercise Class
DESCRIPTION:
URL:https://www.randolphcountyseniorcenter.com/event/1100-exercise-class-8/2025-11-24/
CATEGORIES:Activities
END:VEVENT
BEGIN:VEVENT
DTSTART;VALUE=DATE:20251124
DTEND;VALUE=DATE:20251125
DTSTAMP:20260423T010419
CREATED:20251113T122527Z
LAST-MODIFIED:20251113T122527Z
UID:10018120-1763942400-1764028799@www.randolphcountyseniorcenter.com
SUMMARY:1:00 Native American Style Flute Class
DESCRIPTION:
URL:https://www.randolphcountyseniorcenter.com/event/100-native-american-style-flute-class-8/2025-11-24/
CATEGORIES:Activities
END:VEVENT
BEGIN:VEVENT
DTSTART;VALUE=DATE:20251125
DTEND;VALUE=DATE:20251126
DTSTAMP:20260423T010419
CREATED:20251113T122643Z
LAST-MODIFIED:20251113T122643Z
UID:10018123-1764028800-1764115199@www.randolphcountyseniorcenter.com
SUMMARY:10:00 Quilting Class
DESCRIPTION:
URL:https://www.randolphcountyseniorcenter.com/event/1000-quilting-class-4/2025-11-25/
CATEGORIES:Activities
END:VEVENT
BEGIN:VEVENT
DTSTART;VALUE=DATE:20251125
DTEND;VALUE=DATE:20251126
DTSTAMP:20260423T010419
CREATED:20251113T122812Z
LAST-MODIFIED:20251113T122812Z
UID:10018126-1764028800-1764115199@www.randolphcountyseniorcenter.com
SUMMARY:10:30 Rook
DESCRIPTION:
URL:https://www.randolphcountyseniorcenter.com/event/1030-rook-5/2025-11-25/
CATEGORIES:Activities
END:VEVENT
BEGIN:VEVENT
DTSTART;VALUE=DATE:20251125
DTEND;VALUE=DATE:20251126
DTSTAMP:20260423T010419
CREATED:20251113T122849Z
LAST-MODIFIED:20251113T122849Z
UID:10018129-1764028800-1764115199@www.randolphcountyseniorcenter.com
SUMMARY:12:30 Mahjong
DESCRIPTION:
URL:https://www.randolphcountyseniorcenter.com/event/1230-mahjong-6/2025-11-25/
CATEGORIES:Activities
END:VEVENT
BEGIN:VEVENT
DTSTART;VALUE=DATE:20251125
DTEND;VALUE=DATE:20251126
DTSTAMP:20260423T010419
CREATED:20251113T122855Z
LAST-MODIFIED:20251113T122855Z
UID:10018132-1764028800-1764115199@www.randolphcountyseniorcenter.com
SUMMARY:12:30 - 1:00 Beginning Dulcimer Class / 1 : 0 0 - 2 : 1 5 Regular Dulcimer Class
DESCRIPTION:
URL:https://www.randolphcountyseniorcenter.com/event/1230-100-beginning-dulcimer-class-1-0-0-2-1-5-regular-dulcimer-class/2025-11-25/
CATEGORIES:Activities
END:VEVENT
BEGIN:VEVENT
DTSTART;VALUE=DATE:20251126
DTEND;VALUE=DATE:20251127
DTSTAMP:20260423T010419
CREATED:20251113T123305Z
LAST-MODIFIED:20251113T123305Z
UID:10018138-1764115200-1764201599@www.randolphcountyseniorcenter.com
SUMMARY:11:00 Exercise Class
DESCRIPTION:
URL:https://www.randolphcountyseniorcenter.com/event/1100-exercise-class-9/2025-11-26/
CATEGORIES:Activities
END:VEVENT
BEGIN:VEVENT
DTSTART;VALUE=DATE:20251126
DTEND;VALUE=DATE:20251127
DTSTAMP:20260423T010419
CREATED:20251113T123330Z
LAST-MODIFIED:20251113T123330Z
UID:10018142-1764115200-1764201599@www.randolphcountyseniorcenter.com
SUMMARY:12:30 - 2:15 Hammer Dulcimer
DESCRIPTION:
URL:https://www.randolphcountyseniorcenter.com/event/1230-215-hammer-dulcimer-7/2025-11-26/
CATEGORIES:Activities
END:VEVENT
BEGIN:VEVENT
DTSTART;VALUE=DATE:20251126
DTEND;VALUE=DATE:20251127
DTSTAMP:20260423T010419
CREATED:20251113T123349Z
LAST-MODIFIED:20251113T123349Z
UID:10018146-1764115200-1764201599@www.randolphcountyseniorcenter.com
SUMMARY:1:30 - 3:30 Mahjong
DESCRIPTION:
URL:https://www.randolphcountyseniorcenter.com/event/130-330-mahjong-5/2025-11-26/
CATEGORIES:Activities
END:VEVENT
BEGIN:VEVENT
DTSTART;VALUE=DATE:20260101
DTEND;VALUE=DATE:20260102
DTSTAMP:20260423T010419
CREATED:20260105T174614Z
LAST-MODIFIED:20260105T174614Z
UID:10018222-1767225600-1767311999@www.randolphcountyseniorcenter.com
SUMMARY:Closed for New Year Day
DESCRIPTION:
URL:https://www.randolphcountyseniorcenter.com/event/closed-for-new-year-day/
CATEGORIES:Activities
END:VEVENT
BEGIN:VEVENT
DTSTART;VALUE=DATE:20260102
DTEND;VALUE=DATE:20260103
DTSTAMP:20260423T010419
CREATED:20260105T175447Z
LAST-MODIFIED:20260105T175447Z
UID:10018258-1767312000-1767398399@www.randolphcountyseniorcenter.com
SUMMARY:10:00 Crochet Class
DESCRIPTION:
URL:https://www.randolphcountyseniorcenter.com/event/1000-crochet-class-7/2026-01-02/
CATEGORIES:Activities
END:VEVENT
BEGIN:VEVENT
DTSTART;VALUE=DATE:20260102
DTEND;VALUE=DATE:20260103
DTSTAMP:20260423T010419
CREATED:20260105T175517Z
LAST-MODIFIED:20260105T175517Z
UID:10018263-1767312000-1767398399@www.randolphcountyseniorcenter.com
SUMMARY:12:30 Bridge
DESCRIPTION:
URL:https://www.randolphcountyseniorcenter.com/event/1230-bridge-8/2026-01-02/
CATEGORIES:Activities
END:VEVENT
BEGIN:VEVENT
DTSTART;VALUE=DATE:20260105
DTEND;VALUE=DATE:20260106
DTSTAMP:20260423T010419
CREATED:20260105T174319Z
LAST-MODIFIED:20260105T174359Z
UID:10018206-1767571200-1767657599@www.randolphcountyseniorcenter.com
SUMMARY:10:00 Card Bingo
DESCRIPTION:
URL:https://www.randolphcountyseniorcenter.com/event/1000-card-bingo-13/
CATEGORIES:Activities
END:VEVENT
BEGIN:VEVENT
DTSTART;VALUE=DATE:20260105
DTEND;VALUE=DATE:20260106
DTSTAMP:20260423T010419
CREATED:20260105T174500Z
LAST-MODIFIED:20260105T174500Z
UID:10018208-1767571200-1767657599@www.randolphcountyseniorcenter.com
SUMMARY:11:00 Exercise Class
DESCRIPTION:
URL:https://www.randolphcountyseniorcenter.com/event/1100-exercise-class-11/2026-01-05/
CATEGORIES:Activities
END:VEVENT
BEGIN:VEVENT
DTSTART;VALUE=DATE:20260105
DTEND;VALUE=DATE:20260106
DTSTAMP:20260423T010419
CREATED:20260105T174550Z
LAST-MODIFIED:20260105T174550Z
UID:10018219-1767571200-1767657599@www.randolphcountyseniorcenter.com
SUMMARY:1:00 Native American Style Flute
DESCRIPTION:
URL:https://www.randolphcountyseniorcenter.com/event/100-native-american-style-flute/2026-01-05/
CATEGORIES:Activities
END:VEVENT
BEGIN:VEVENT
DTSTART;VALUE=DATE:20260106
DTEND;VALUE=DATE:20260107
DTSTAMP:20260423T010419
CREATED:20260105T174750Z
LAST-MODIFIED:20260105T174750Z
UID:10018224-1767657600-1767743999@www.randolphcountyseniorcenter.com
SUMMARY:10:00 Quilting Class
DESCRIPTION:
URL:https://www.randolphcountyseniorcenter.com/event/1000-quilting-class-5/2026-01-06/
CATEGORIES:Activities
END:VEVENT
BEGIN:VEVENT
DTSTART;VALUE=DATE:20260106
DTEND;VALUE=DATE:20260107
DTSTAMP:20260423T010419
CREATED:20260105T174834Z
LAST-MODIFIED:20260105T174834Z
UID:10018228-1767657600-1767743999@www.randolphcountyseniorcenter.com
SUMMARY:10:30 Rook
DESCRIPTION:
URL:https://www.randolphcountyseniorcenter.com/event/1030-rook-6/2026-01-06/
CATEGORIES:Activities
END:VEVENT
BEGIN:VEVENT
DTSTART;VALUE=DATE:20260106
DTEND;VALUE=DATE:20260107
DTSTAMP:20260423T010419
CREATED:20260105T174851Z
LAST-MODIFIED:20260105T174851Z
UID:10018232-1767657600-1767743999@www.randolphcountyseniorcenter.com
SUMMARY:12:30 Mahjong
DESCRIPTION:
URL:https://www.randolphcountyseniorcenter.com/event/1230-mahjong-7/2026-01-06/
CATEGORIES:Activities
END:VEVENT
BEGIN:VEVENT
DTSTART;VALUE=DATE:20260106
DTEND;VALUE=DATE:20260107
DTSTAMP:20260423T010419
CREATED:20260105T174914Z
LAST-MODIFIED:20260105T174914Z
UID:10018236-1767657600-1767743999@www.randolphcountyseniorcenter.com
SUMMARY:12:30 - 1:00 Beg. Dulcimer Class / 1:00 - 2:15 Reg. Dulcimer Class
DESCRIPTION:
URL:https://www.randolphcountyseniorcenter.com/event/1230-100-beg-dulcimer-class-100-215-reg-dulcimer-class/2026-01-06/
CATEGORIES:Activities
END:VEVENT
BEGIN:VEVENT
DTSTART;VALUE=DATE:20260107
DTEND;VALUE=DATE:20260108
DTSTAMP:20260423T010419
CREATED:20260105T174500Z
LAST-MODIFIED:20260105T174500Z
UID:10018209-1767744000-1767830399@www.randolphcountyseniorcenter.com
SUMMARY:11:00 Exercise Class
DESCRIPTION:
URL:https://www.randolphcountyseniorcenter.com/event/1100-exercise-class-11/2026-01-07/
CATEGORIES:Activities
END:VEVENT
BEGIN:VEVENT
DTSTART;VALUE=DATE:20260107
DTEND;VALUE=DATE:20260108
DTSTAMP:20260423T010419
CREATED:20260105T175006Z
LAST-MODIFIED:20260105T175006Z
UID:10018240-1767744000-1767830399@www.randolphcountyseniorcenter.com
SUMMARY:10:00 Horse Race Game
DESCRIPTION:
URL:https://www.randolphcountyseniorcenter.com/event/1000-horse-race-game-14/
CATEGORIES:Activities
END:VEVENT
BEGIN:VEVENT
DTSTART;VALUE=DATE:20260107
DTEND;VALUE=DATE:20260108
DTSTAMP:20260423T010419
CREATED:20260105T175124Z
LAST-MODIFIED:20260105T175124Z
UID:10018243-1767744000-1767830399@www.randolphcountyseniorcenter.com
SUMMARY:12:30 - 2:15 Hammer Dulcimer
DESCRIPTION:
URL:https://www.randolphcountyseniorcenter.com/event/1230-215-hammer-dulcimer-8/2026-01-07/
CATEGORIES:Activities
END:VEVENT
BEGIN:VEVENT
DTSTART;VALUE=DATE:20260107
DTEND;VALUE=DATE:20260108
DTSTAMP:20260423T010419
CREATED:20260105T175142Z
LAST-MODIFIED:20260105T175142Z
UID:10018247-1767744000-1767830399@www.randolphcountyseniorcenter.com
SUMMARY:1:30 - 3:30 Mahjong
DESCRIPTION:
URL:https://www.randolphcountyseniorcenter.com/event/130-330-mahjong-6/2026-01-07/
CATEGORIES:Activities
END:VEVENT
END:VCALENDAR