BEGIN:VCALENDAR
VERSION:2.0
PRODID:-//Randolph County Senior Center - ECPv6.15.20//NONSGML v1.0//EN
CALSCALE:GREGORIAN
METHOD:PUBLISH
X-WR-CALNAME:Randolph County Senior Center
X-ORIGINAL-URL:https://www.randolphcountyseniorcenter.com
X-WR-CALDESC:Events for Randolph County Senior Center
REFRESH-INTERVAL;VALUE=DURATION:PT1H
X-Robots-Tag:noindex
X-PUBLISHED-TTL:PT1H
BEGIN:VTIMEZONE
TZID:UTC
BEGIN:STANDARD
TZOFFSETFROM:+0000
TZOFFSETTO:+0000
TZNAME:UTC
DTSTART:20240101T000000
END:STANDARD
END:VTIMEZONE
BEGIN:VEVENT
DTSTART;VALUE=DATE:20250804
DTEND;VALUE=DATE:20250805
DTSTAMP:20260422T114635
CREATED:20250805T114625Z
LAST-MODIFIED:20250805T114625Z
UID:10017998-1754265600-1754351999@www.randolphcountyseniorcenter.com
SUMMARY:1:00 Native American Style Flute Class
DESCRIPTION:
URL:https://www.randolphcountyseniorcenter.com/event/100-native-american-style-flute-class-7/2025-08-04/
CATEGORIES:Activities
END:VEVENT
BEGIN:VEVENT
DTSTART;VALUE=DATE:20250805
DTEND;VALUE=DATE:20250806
DTSTAMP:20260422T114635
CREATED:20250805T114727Z
LAST-MODIFIED:20250805T114727Z
UID:10018002-1754352000-1754438399@www.randolphcountyseniorcenter.com
SUMMARY:10:00 Quilting Class
DESCRIPTION:
URL:https://www.randolphcountyseniorcenter.com/event/1000-quilting-class-3/2025-08-05/
CATEGORIES:Activities
END:VEVENT
BEGIN:VEVENT
DTSTART;VALUE=DATE:20250805
DTEND;VALUE=DATE:20250806
DTSTAMP:20260422T114635
CREATED:20250805T114813Z
LAST-MODIFIED:20250805T114813Z
UID:10018006-1754352000-1754438399@www.randolphcountyseniorcenter.com
SUMMARY:10:30-11 Rook
DESCRIPTION:
URL:https://www.randolphcountyseniorcenter.com/event/1030-11-rook/2025-08-05/
CATEGORIES:Activities
END:VEVENT
BEGIN:VEVENT
DTSTART;VALUE=DATE:20250805
DTEND;VALUE=DATE:20250806
DTSTAMP:20260422T114635
CREATED:20250805T114824Z
LAST-MODIFIED:20250805T114824Z
UID:10018010-1754352000-1754438399@www.randolphcountyseniorcenter.com
SUMMARY:12:30 Mahjong
DESCRIPTION:
URL:https://www.randolphcountyseniorcenter.com/event/1230-mahjong-5/2025-08-05/
CATEGORIES:Activities
END:VEVENT
BEGIN:VEVENT
DTSTART;VALUE=DATE:20250805
DTEND;VALUE=DATE:20250806
DTSTAMP:20260422T114635
CREATED:20250805T114938Z
LAST-MODIFIED:20250805T114938Z
UID:10018014-1754352000-1754438399@www.randolphcountyseniorcenter.com
SUMMARY:12:30-1:00 Beginning Dulcimer / 1:00-2:15 Regular Dulcimer
DESCRIPTION:
URL:https://www.randolphcountyseniorcenter.com/event/1230-100-beginning-dulcimer-100-215-regular-dulcimer/2025-08-05/
CATEGORIES:Activities
END:VEVENT
BEGIN:VEVENT
DTSTART;VALUE=DATE:20250806
DTEND;VALUE=DATE:20250807
DTSTAMP:20260422T114635
CREATED:20250805T114537Z
LAST-MODIFIED:20250805T114537Z
UID:10017987-1754438400-1754524799@www.randolphcountyseniorcenter.com
SUMMARY:11:00 Exercise Class
DESCRIPTION:
URL:https://www.randolphcountyseniorcenter.com/event/1100-exercise-class-7/2025-08-06/
CATEGORIES:Activities
END:VEVENT
BEGIN:VEVENT
DTSTART;VALUE=DATE:20250806
DTEND;VALUE=DATE:20250807
DTSTAMP:20260422T114635
CREATED:20250805T115253Z
LAST-MODIFIED:20250805T115253Z
UID:10018021-1754438400-1754524799@www.randolphcountyseniorcenter.com
SUMMARY:12:30 - 2:15 Hammer Dulcimer
DESCRIPTION:
URL:https://www.randolphcountyseniorcenter.com/event/1230-215-hammer-dulcimer-6/2025-08-06/
CATEGORIES:Activities
END:VEVENT
BEGIN:VEVENT
DTSTART;VALUE=DATE:20250806
DTEND;VALUE=DATE:20250807
DTSTAMP:20260422T114635
CREATED:20250805T115322Z
LAST-MODIFIED:20250805T115322Z
UID:10018025-1754438400-1754524799@www.randolphcountyseniorcenter.com
SUMMARY:1:30-3:30 Mahjong
DESCRIPTION:
URL:https://www.randolphcountyseniorcenter.com/event/130-330-mahjong-4/2025-08-06/
CATEGORIES:Activities
END:VEVENT
BEGIN:VEVENT
DTSTART;VALUE=DATE:20250807
DTEND;VALUE=DATE:20250808
DTSTAMP:20260422T114635
CREATED:20250805T115435Z
LAST-MODIFIED:20250805T115435Z
UID:10018030-1754524800-1754611199@www.randolphcountyseniorcenter.com
SUMMARY:1:00-2:00 Guitar Class
DESCRIPTION:
URL:https://www.randolphcountyseniorcenter.com/event/100-200-guitar-class-6/
CATEGORIES:Activities
END:VEVENT
BEGIN:VEVENT
DTSTART;VALUE=DATE:20250807
DTEND;VALUE=DATE:20250808
DTSTAMP:20260422T114635
CREATED:20250805T115643Z
LAST-MODIFIED:20250805T115643Z
UID:10018033-1754524800-1754611199@www.randolphcountyseniorcenter.com
SUMMARY:1:00 Weaving Class
DESCRIPTION:
URL:https://www.randolphcountyseniorcenter.com/event/100-weaving-class-6/2025-08-07/
CATEGORIES:Activities
END:VEVENT
BEGIN:VEVENT
DTSTART;VALUE=DATE:20250808
DTEND;VALUE=DATE:20250809
DTSTAMP:20260422T114635
CREATED:20250805T114537Z
LAST-MODIFIED:20250805T114537Z
UID:10017988-1754611200-1754697599@www.randolphcountyseniorcenter.com
SUMMARY:11:00 Exercise Class
DESCRIPTION:
URL:https://www.randolphcountyseniorcenter.com/event/1100-exercise-class-7/2025-08-08/
CATEGORIES:Activities
END:VEVENT
BEGIN:VEVENT
DTSTART;VALUE=DATE:20250808
DTEND;VALUE=DATE:20250809
DTSTAMP:20260422T114635
CREATED:20250805T115751Z
LAST-MODIFIED:20250805T115751Z
UID:10018037-1754611200-1754697599@www.randolphcountyseniorcenter.com
SUMMARY:10:00 Crochet Class
DESCRIPTION:
URL:https://www.randolphcountyseniorcenter.com/event/1000-crochet-class-5/2025-08-08/
CATEGORIES:Activities
END:VEVENT
BEGIN:VEVENT
DTSTART;VALUE=DATE:20250808
DTEND;VALUE=DATE:20250809
DTSTAMP:20260422T114635
CREATED:20250805T115822Z
LAST-MODIFIED:20250805T115822Z
UID:10018042-1754611200-1754697599@www.randolphcountyseniorcenter.com
SUMMARY:12:30 Bridge
DESCRIPTION:
URL:https://www.randolphcountyseniorcenter.com/event/1230-bridge-6/2025-08-08/
CATEGORIES:Activities
END:VEVENT
BEGIN:VEVENT
DTSTART;VALUE=DATE:20250811
DTEND;VALUE=DATE:20250812
DTSTAMP:20260422T114635
CREATED:20250805T114537Z
LAST-MODIFIED:20250805T114537Z
UID:10017989-1754870400-1754956799@www.randolphcountyseniorcenter.com
SUMMARY:11:00 Exercise Class
DESCRIPTION:
URL:https://www.randolphcountyseniorcenter.com/event/1100-exercise-class-7/2025-08-11/
CATEGORIES:Activities
END:VEVENT
BEGIN:VEVENT
DTSTART;VALUE=DATE:20250811
DTEND;VALUE=DATE:20250812
DTSTAMP:20260422T114635
CREATED:20250805T114625Z
LAST-MODIFIED:20250805T114625Z
UID:10017999-1754870400-1754956799@www.randolphcountyseniorcenter.com
SUMMARY:1:00 Native American Style Flute Class
DESCRIPTION:
URL:https://www.randolphcountyseniorcenter.com/event/100-native-american-style-flute-class-7/2025-08-11/
CATEGORIES:Activities
END:VEVENT
BEGIN:VEVENT
DTSTART;VALUE=DATE:20250812
DTEND;VALUE=DATE:20250813
DTSTAMP:20260422T114635
CREATED:20250805T114727Z
LAST-MODIFIED:20250805T114727Z
UID:10018003-1754956800-1755043199@www.randolphcountyseniorcenter.com
SUMMARY:10:00 Quilting Class
DESCRIPTION:
URL:https://www.randolphcountyseniorcenter.com/event/1000-quilting-class-3/2025-08-12/
CATEGORIES:Activities
END:VEVENT
BEGIN:VEVENT
DTSTART;VALUE=DATE:20250812
DTEND;VALUE=DATE:20250813
DTSTAMP:20260422T114635
CREATED:20250805T114813Z
LAST-MODIFIED:20250805T114813Z
UID:10018007-1754956800-1755043199@www.randolphcountyseniorcenter.com
SUMMARY:10:30-11 Rook
DESCRIPTION:
URL:https://www.randolphcountyseniorcenter.com/event/1030-11-rook/2025-08-12/
CATEGORIES:Activities
END:VEVENT
BEGIN:VEVENT
DTSTART;VALUE=DATE:20250812
DTEND;VALUE=DATE:20250813
DTSTAMP:20260422T114635
CREATED:20250805T114824Z
LAST-MODIFIED:20250805T114824Z
UID:10018011-1754956800-1755043199@www.randolphcountyseniorcenter.com
SUMMARY:12:30 Mahjong
DESCRIPTION:
URL:https://www.randolphcountyseniorcenter.com/event/1230-mahjong-5/2025-08-12/
CATEGORIES:Activities
END:VEVENT
BEGIN:VEVENT
DTSTART;VALUE=DATE:20250812
DTEND;VALUE=DATE:20250813
DTSTAMP:20260422T114635
CREATED:20250805T114938Z
LAST-MODIFIED:20250805T114938Z
UID:10018015-1754956800-1755043199@www.randolphcountyseniorcenter.com
SUMMARY:12:30-1:00 Beginning Dulcimer / 1:00-2:15 Regular Dulcimer
DESCRIPTION:
URL:https://www.randolphcountyseniorcenter.com/event/1230-100-beginning-dulcimer-100-215-regular-dulcimer/2025-08-12/
CATEGORIES:Activities
END:VEVENT
BEGIN:VEVENT
DTSTART;VALUE=DATE:20250813
DTEND;VALUE=DATE:20250814
DTSTAMP:20260422T114635
CREATED:20250805T114537Z
LAST-MODIFIED:20250805T114537Z
UID:10017990-1755043200-1755129599@www.randolphcountyseniorcenter.com
SUMMARY:11:00 Exercise Class
DESCRIPTION:
URL:https://www.randolphcountyseniorcenter.com/event/1100-exercise-class-7/2025-08-13/
CATEGORIES:Activities
END:VEVENT
BEGIN:VEVENT
DTSTART;VALUE=DATE:20250813
DTEND;VALUE=DATE:20250814
DTSTAMP:20260422T114635
CREATED:20250805T115253Z
LAST-MODIFIED:20250805T115253Z
UID:10018022-1755043200-1755129599@www.randolphcountyseniorcenter.com
SUMMARY:12:30 - 2:15 Hammer Dulcimer
DESCRIPTION:
URL:https://www.randolphcountyseniorcenter.com/event/1230-215-hammer-dulcimer-6/2025-08-13/
CATEGORIES:Activities
END:VEVENT
BEGIN:VEVENT
DTSTART;VALUE=DATE:20250813
DTEND;VALUE=DATE:20250814
DTSTAMP:20260422T114635
CREATED:20250805T115322Z
LAST-MODIFIED:20250805T115322Z
UID:10018026-1755043200-1755129599@www.randolphcountyseniorcenter.com
SUMMARY:1:30-3:30 Mahjong
DESCRIPTION:
URL:https://www.randolphcountyseniorcenter.com/event/130-330-mahjong-4/2025-08-13/
CATEGORIES:Activities
END:VEVENT
BEGIN:VEVENT
DTSTART;VALUE=DATE:20250814
DTEND;VALUE=DATE:20250815
DTSTAMP:20260422T114635
CREATED:20250805T115643Z
LAST-MODIFIED:20250805T115643Z
UID:10018034-1755129600-1755215999@www.randolphcountyseniorcenter.com
SUMMARY:1:00 Weaving Class
DESCRIPTION:
URL:https://www.randolphcountyseniorcenter.com/event/100-weaving-class-6/2025-08-14/
CATEGORIES:Activities
END:VEVENT
BEGIN:VEVENT
DTSTART;VALUE=DATE:20250815
DTEND;VALUE=DATE:20250816
DTSTAMP:20260422T114635
CREATED:20250805T114537Z
LAST-MODIFIED:20250805T114537Z
UID:10017991-1755216000-1755302399@www.randolphcountyseniorcenter.com
SUMMARY:11:00 Exercise Class
DESCRIPTION:
URL:https://www.randolphcountyseniorcenter.com/event/1100-exercise-class-7/2025-08-15/
CATEGORIES:Activities
END:VEVENT
BEGIN:VEVENT
DTSTART;VALUE=DATE:20250815
DTEND;VALUE=DATE:20250816
DTSTAMP:20260422T114636
CREATED:20250805T115751Z
LAST-MODIFIED:20250805T115751Z
UID:10018038-1755216000-1755302399@www.randolphcountyseniorcenter.com
SUMMARY:10:00 Crochet Class
DESCRIPTION:
URL:https://www.randolphcountyseniorcenter.com/event/1000-crochet-class-5/2025-08-15/
CATEGORIES:Activities
END:VEVENT
BEGIN:VEVENT
DTSTART;VALUE=DATE:20250815
DTEND;VALUE=DATE:20250816
DTSTAMP:20260422T114636
CREATED:20250805T115822Z
LAST-MODIFIED:20250805T115822Z
UID:10018043-1755216000-1755302399@www.randolphcountyseniorcenter.com
SUMMARY:12:30 Bridge
DESCRIPTION:
URL:https://www.randolphcountyseniorcenter.com/event/1230-bridge-6/2025-08-15/
CATEGORIES:Activities
END:VEVENT
BEGIN:VEVENT
DTSTART;VALUE=DATE:20250818
DTEND;VALUE=DATE:20250819
DTSTAMP:20260422T114636
CREATED:20250805T114537Z
LAST-MODIFIED:20250805T114537Z
UID:10017992-1755475200-1755561599@www.randolphcountyseniorcenter.com
SUMMARY:11:00 Exercise Class
DESCRIPTION:
URL:https://www.randolphcountyseniorcenter.com/event/1100-exercise-class-7/2025-08-18/
CATEGORIES:Activities
END:VEVENT
BEGIN:VEVENT
DTSTART;VALUE=DATE:20250818
DTEND;VALUE=DATE:20250819
DTSTAMP:20260422T114636
CREATED:20250805T114625Z
LAST-MODIFIED:20250805T114625Z
UID:10018000-1755475200-1755561599@www.randolphcountyseniorcenter.com
SUMMARY:1:00 Native American Style Flute Class
DESCRIPTION:
URL:https://www.randolphcountyseniorcenter.com/event/100-native-american-style-flute-class-7/2025-08-18/
CATEGORIES:Activities
END:VEVENT
BEGIN:VEVENT
DTSTART;VALUE=DATE:20250819
DTEND;VALUE=DATE:20250820
DTSTAMP:20260422T114636
CREATED:20250805T114727Z
LAST-MODIFIED:20250805T114727Z
UID:10018004-1755561600-1755647999@www.randolphcountyseniorcenter.com
SUMMARY:10:00 Quilting Class
DESCRIPTION:
URL:https://www.randolphcountyseniorcenter.com/event/1000-quilting-class-3/2025-08-19/
CATEGORIES:Activities
END:VEVENT
BEGIN:VEVENT
DTSTART;VALUE=DATE:20250819
DTEND;VALUE=DATE:20250820
DTSTAMP:20260422T114636
CREATED:20250805T114813Z
LAST-MODIFIED:20250805T114813Z
UID:10018008-1755561600-1755647999@www.randolphcountyseniorcenter.com
SUMMARY:10:30-11 Rook
DESCRIPTION:
URL:https://www.randolphcountyseniorcenter.com/event/1030-11-rook/2025-08-19/
CATEGORIES:Activities
END:VEVENT
END:VCALENDAR