BEGIN:VCALENDAR
VERSION:2.0
PRODID:-//Randolph County Senior Center - ECPv6.15.20//NONSGML v1.0//EN
CALSCALE:GREGORIAN
METHOD:PUBLISH
X-ORIGINAL-URL:https://www.randolphcountyseniorcenter.com
X-WR-CALDESC:Events for Randolph County Senior Center
REFRESH-INTERVAL;VALUE=DURATION:PT1H
X-Robots-Tag:noindex
X-PUBLISHED-TTL:PT1H
BEGIN:VTIMEZONE
TZID:UTC
BEGIN:STANDARD
TZOFFSETFROM:+0000
TZOFFSETTO:+0000
TZNAME:UTC
DTSTART:20240101T000000
END:STANDARD
END:VTIMEZONE
BEGIN:VEVENT
DTSTART;VALUE=DATE:20250613
DTEND;VALUE=DATE:20250614
DTSTAMP:20260419T203100
CREATED:20250603T141534Z
LAST-MODIFIED:20250603T141534Z
UID:10017870-1749772800-1749859199@www.randolphcountyseniorcenter.com
SUMMARY:10:00 Crochet Class
DESCRIPTION:
URL:https://www.randolphcountyseniorcenter.com/event/1000-crochet-class-4/2025-06-13/
CATEGORIES:Activities
END:VEVENT
BEGIN:VEVENT
DTSTART;VALUE=DATE:20250613
DTEND;VALUE=DATE:20250614
DTSTAMP:20260419T203100
CREATED:20250603T141558Z
LAST-MODIFIED:20250603T141558Z
UID:10017873-1749772800-1749859199@www.randolphcountyseniorcenter.com
SUMMARY:12:30 Bridge
DESCRIPTION:
URL:https://www.randolphcountyseniorcenter.com/event/1230-bridge-4/2025-06-13/
CATEGORIES:Activities
END:VEVENT
BEGIN:VEVENT
DTSTART;VALUE=DATE:20250616
DTEND;VALUE=DATE:20250617
DTSTAMP:20260419T203100
CREATED:20250603T140421Z
LAST-MODIFIED:20250603T140421Z
UID:10017818-1750032000-1750118399@www.randolphcountyseniorcenter.com
SUMMARY:10:00 Card Bingo
DESCRIPTION:
URL:https://www.randolphcountyseniorcenter.com/event/1000-card-bingo-8/
CATEGORIES:Activities
END:VEVENT
BEGIN:VEVENT
DTSTART;VALUE=DATE:20250616
DTEND;VALUE=DATE:20250617
DTSTAMP:20260419T203100
CREATED:20250603T140531Z
LAST-MODIFIED:20250603T140531Z
UID:10017824-1750032000-1750118399@www.randolphcountyseniorcenter.com
SUMMARY:11:00 Exercise Class
DESCRIPTION:
URL:https://www.randolphcountyseniorcenter.com/event/1100-exercise-class-5/2025-06-16/
CATEGORIES:Activities
END:VEVENT
BEGIN:VEVENT
DTSTART;VALUE=DATE:20250616
DTEND;VALUE=DATE:20250617
DTSTAMP:20260419T203100
CREATED:20250603T140719Z
LAST-MODIFIED:20250603T140719Z
UID:10017833-1750032000-1750118399@www.randolphcountyseniorcenter.com
SUMMARY:1:00 Native American Style Flute Class
DESCRIPTION:
URL:https://www.randolphcountyseniorcenter.com/event/100-native-american-style-flute-class-5/2025-06-16/
CATEGORIES:Activities
END:VEVENT
BEGIN:VEVENT
DTSTART;VALUE=DATE:20250617
DTEND;VALUE=DATE:20250618
DTSTAMP:20260419T203100
CREATED:20250603T140817Z
LAST-MODIFIED:20250603T140817Z
UID:10017838-1750118400-1750204799@www.randolphcountyseniorcenter.com
SUMMARY:10:00 Quilting Class
DESCRIPTION:
URL:https://www.randolphcountyseniorcenter.com/event/1000-quilting-class/2025-06-17/
CATEGORIES:Activities
END:VEVENT
BEGIN:VEVENT
DTSTART;VALUE=DATE:20250617
DTEND;VALUE=DATE:20250618
DTSTAMP:20260419T203100
CREATED:20250603T140850Z
LAST-MODIFIED:20250603T140850Z
UID:10017842-1750118400-1750204799@www.randolphcountyseniorcenter.com
SUMMARY:10:30 Rook
DESCRIPTION:
URL:https://www.randolphcountyseniorcenter.com/event/1030-rook-4/2025-06-17/
CATEGORIES:Activities
END:VEVENT
BEGIN:VEVENT
DTSTART;VALUE=DATE:20250617
DTEND;VALUE=DATE:20250618
DTSTAMP:20260419T203100
CREATED:20250603T140935Z
LAST-MODIFIED:20250603T140935Z
UID:10017846-1750118400-1750204799@www.randolphcountyseniorcenter.com
SUMMARY:12:30 - 1:00 Beginning Dulcimer Class
DESCRIPTION:
URL:https://www.randolphcountyseniorcenter.com/event/1230-100-beginning-dulcimer-class/2025-06-17/
CATEGORIES:Activities
END:VEVENT
BEGIN:VEVENT
DTSTART;VALUE=DATE:20250617
DTEND;VALUE=DATE:20250618
DTSTAMP:20260419T203100
CREATED:20250603T140959Z
LAST-MODIFIED:20250603T140959Z
UID:10017850-1750118400-1750204799@www.randolphcountyseniorcenter.com
SUMMARY:1:00 - 2:15 Regular Dulcimer Class
DESCRIPTION:
URL:https://www.randolphcountyseniorcenter.com/event/100-215-regular-dulcimer-class/2025-06-17/
CATEGORIES:Activities
END:VEVENT
BEGIN:VEVENT
DTSTART;VALUE=DATE:20250618
DTEND;VALUE=DATE:20250619
DTSTAMP:20260419T203100
CREATED:20250603T140531Z
LAST-MODIFIED:20250603T140531Z
UID:10017825-1750204800-1750291199@www.randolphcountyseniorcenter.com
SUMMARY:11:00 Exercise Class
DESCRIPTION:
URL:https://www.randolphcountyseniorcenter.com/event/1100-exercise-class-5/2025-06-18/
CATEGORIES:Activities
END:VEVENT
BEGIN:VEVENT
DTSTART;VALUE=DATE:20250618
DTEND;VALUE=DATE:20250619
DTSTAMP:20260419T203100
CREATED:20250603T141051Z
LAST-MODIFIED:20250603T141051Z
UID:10017853-1750204800-1750291199@www.randolphcountyseniorcenter.com
SUMMARY:10:00 Horse Race Game
DESCRIPTION:
URL:https://www.randolphcountyseniorcenter.com/event/1000-horse-race-game-7/
CATEGORIES:Activities
END:VEVENT
BEGIN:VEVENT
DTSTART;VALUE=DATE:20250618
DTEND;VALUE=DATE:20250619
DTSTAMP:20260419T203100
CREATED:20250603T141137Z
LAST-MODIFIED:20250603T141137Z
UID:10017856-1750204800-1750291199@www.randolphcountyseniorcenter.com
SUMMARY:12:30 - 2:15 Hammer Dulcimer
DESCRIPTION:
URL:https://www.randolphcountyseniorcenter.com/event/1230-215-hammer-dulcimer-4/2025-06-18/
CATEGORIES:Activities
END:VEVENT
BEGIN:VEVENT
DTSTART;VALUE=DATE:20250618
DTEND;VALUE=DATE:20250619
DTSTAMP:20260419T203100
CREATED:20250603T141209Z
LAST-MODIFIED:20250603T141209Z
UID:10017860-1750204800-1750291199@www.randolphcountyseniorcenter.com
SUMMARY:1:30 - 3:30 Mahjong
DESCRIPTION:
URL:https://www.randolphcountyseniorcenter.com/event/130-330-mahjong-3/2025-06-18/
CATEGORIES:Activities
END:VEVENT
BEGIN:VEVENT
DTSTART;VALUE=DATE:20250619
DTEND;VALUE=DATE:20250620
DTSTAMP:20260419T203100
CREATED:20250603T141249Z
LAST-MODIFIED:20250603T141249Z
UID:10017862-1750291200-1750377599@www.randolphcountyseniorcenter.com
SUMMARY:After Lunch - Hymn's W/ Suzy
DESCRIPTION:
URL:https://www.randolphcountyseniorcenter.com/event/after-lunch-hymns-w-suzy-3/
CATEGORIES:Activities
END:VEVENT
BEGIN:VEVENT
DTSTART;VALUE=DATE:20250619
DTEND;VALUE=DATE:20250620
DTSTAMP:20260419T203100
CREATED:20250603T141332Z
LAST-MODIFIED:20250603T141332Z
UID:10017863-1750291200-1750377599@www.randolphcountyseniorcenter.com
SUMMARY:1:00 - 2:00 Guitar Class
DESCRIPTION:
URL:https://www.randolphcountyseniorcenter.com/event/100-200-guitar-class-4/
CATEGORIES:Activities
END:VEVENT
BEGIN:VEVENT
DTSTART;VALUE=DATE:20250619
DTEND;VALUE=DATE:20250620
DTSTAMP:20260419T203100
CREATED:20250603T141438Z
LAST-MODIFIED:20250603T141438Z
UID:10017867-1750291200-1750377599@www.randolphcountyseniorcenter.com
SUMMARY:1:00 Weaving Class
DESCRIPTION:
URL:https://www.randolphcountyseniorcenter.com/event/100-weaving-class-4/2025-06-19/
CATEGORIES:Activities
END:VEVENT
BEGIN:VEVENT
DTSTART;VALUE=DATE:20250620
DTEND;VALUE=DATE:20250621
DTSTAMP:20260419T203100
CREATED:20250603T140618Z
LAST-MODIFIED:20250603T140618Z
UID:10017830-1750377600-1750463999@www.randolphcountyseniorcenter.com
SUMMARY:Closed for West Virginia Day
DESCRIPTION:
URL:https://www.randolphcountyseniorcenter.com/event/closed-for-west-virginia-day/
CATEGORIES:Activities
END:VEVENT
BEGIN:VEVENT
DTSTART;VALUE=DATE:20250623
DTEND;VALUE=DATE:20250624
DTSTAMP:20260419T203100
CREATED:20250603T140531Z
LAST-MODIFIED:20250603T140531Z
UID:10017826-1750636800-1750723199@www.randolphcountyseniorcenter.com
SUMMARY:11:00 Exercise Class
DESCRIPTION:
URL:https://www.randolphcountyseniorcenter.com/event/1100-exercise-class-5/2025-06-23/
CATEGORIES:Activities
END:VEVENT
BEGIN:VEVENT
DTSTART;VALUE=DATE:20250623
DTEND;VALUE=DATE:20250624
DTSTAMP:20260419T203100
CREATED:20250603T140719Z
LAST-MODIFIED:20250603T140719Z
UID:10017834-1750636800-1750723199@www.randolphcountyseniorcenter.com
SUMMARY:1:00 Native American Style Flute Class
DESCRIPTION:
URL:https://www.randolphcountyseniorcenter.com/event/100-native-american-style-flute-class-5/2025-06-23/
CATEGORIES:Activities
END:VEVENT
BEGIN:VEVENT
DTSTART;VALUE=DATE:20250624
DTEND;VALUE=DATE:20250625
DTSTAMP:20260419T203100
CREATED:20250603T140817Z
LAST-MODIFIED:20250603T140817Z
UID:10017839-1750723200-1750809599@www.randolphcountyseniorcenter.com
SUMMARY:10:00 Quilting Class
DESCRIPTION:
URL:https://www.randolphcountyseniorcenter.com/event/1000-quilting-class/2025-06-24/
CATEGORIES:Activities
END:VEVENT
BEGIN:VEVENT
DTSTART;VALUE=DATE:20250624
DTEND;VALUE=DATE:20250625
DTSTAMP:20260419T203100
CREATED:20250603T140850Z
LAST-MODIFIED:20250603T140850Z
UID:10017843-1750723200-1750809599@www.randolphcountyseniorcenter.com
SUMMARY:10:30 Rook
DESCRIPTION:
URL:https://www.randolphcountyseniorcenter.com/event/1030-rook-4/2025-06-24/
CATEGORIES:Activities
END:VEVENT
BEGIN:VEVENT
DTSTART;VALUE=DATE:20250624
DTEND;VALUE=DATE:20250625
DTSTAMP:20260419T203100
CREATED:20250603T140935Z
LAST-MODIFIED:20250603T140935Z
UID:10017847-1750723200-1750809599@www.randolphcountyseniorcenter.com
SUMMARY:12:30 - 1:00 Beginning Dulcimer Class
DESCRIPTION:
URL:https://www.randolphcountyseniorcenter.com/event/1230-100-beginning-dulcimer-class/2025-06-24/
CATEGORIES:Activities
END:VEVENT
BEGIN:VEVENT
DTSTART;VALUE=DATE:20250624
DTEND;VALUE=DATE:20250625
DTSTAMP:20260419T203100
CREATED:20250603T140959Z
LAST-MODIFIED:20250603T140959Z
UID:10017851-1750723200-1750809599@www.randolphcountyseniorcenter.com
SUMMARY:1:00 - 2:15 Regular Dulcimer Class
DESCRIPTION:
URL:https://www.randolphcountyseniorcenter.com/event/100-215-regular-dulcimer-class/2025-06-24/
CATEGORIES:Activities
END:VEVENT
BEGIN:VEVENT
DTSTART;VALUE=DATE:20250625
DTEND;VALUE=DATE:20250626
DTSTAMP:20260419T203100
CREATED:20250603T140531Z
LAST-MODIFIED:20250603T140531Z
UID:10017827-1750809600-1750895999@www.randolphcountyseniorcenter.com
SUMMARY:11:00 Exercise Class
DESCRIPTION:
URL:https://www.randolphcountyseniorcenter.com/event/1100-exercise-class-5/2025-06-25/
CATEGORIES:Activities
END:VEVENT
BEGIN:VEVENT
DTSTART;VALUE=DATE:20250625
DTEND;VALUE=DATE:20250626
DTSTAMP:20260419T203100
CREATED:20250603T141137Z
LAST-MODIFIED:20250603T141137Z
UID:10017857-1750809600-1750895999@www.randolphcountyseniorcenter.com
SUMMARY:12:30 - 2:15 Hammer Dulcimer
DESCRIPTION:
URL:https://www.randolphcountyseniorcenter.com/event/1230-215-hammer-dulcimer-4/2025-06-25/
CATEGORIES:Activities
END:VEVENT
BEGIN:VEVENT
DTSTART;VALUE=DATE:20250625
DTEND;VALUE=DATE:20250626
DTSTAMP:20260419T203100
CREATED:20250603T141209Z
LAST-MODIFIED:20250603T141209Z
UID:10017861-1750809600-1750895999@www.randolphcountyseniorcenter.com
SUMMARY:1:30 - 3:30 Mahjong
DESCRIPTION:
URL:https://www.randolphcountyseniorcenter.com/event/130-330-mahjong-3/2025-06-25/
CATEGORIES:Activities
END:VEVENT
BEGIN:VEVENT
DTSTART;VALUE=DATE:20250626
DTEND;VALUE=DATE:20250627
DTSTAMP:20260419T203100
CREATED:20250603T141438Z
LAST-MODIFIED:20250603T141438Z
UID:10017868-1750896000-1750982399@www.randolphcountyseniorcenter.com
SUMMARY:1:00 Weaving Class
DESCRIPTION:
URL:https://www.randolphcountyseniorcenter.com/event/100-weaving-class-4/2025-06-26/
CATEGORIES:Activities
END:VEVENT
BEGIN:VEVENT
DTSTART;VALUE=DATE:20250627
DTEND;VALUE=DATE:20250628
DTSTAMP:20260419T203100
CREATED:20250603T140531Z
LAST-MODIFIED:20250603T140531Z
UID:10017828-1750982400-1751068799@www.randolphcountyseniorcenter.com
SUMMARY:11:00 Exercise Class
DESCRIPTION:
URL:https://www.randolphcountyseniorcenter.com/event/1100-exercise-class-5/2025-06-27/
CATEGORIES:Activities
END:VEVENT
BEGIN:VEVENT
DTSTART;VALUE=DATE:20250627
DTEND;VALUE=DATE:20250628
DTSTAMP:20260419T203100
CREATED:20250603T141534Z
LAST-MODIFIED:20250603T141534Z
UID:10017871-1750982400-1751068799@www.randolphcountyseniorcenter.com
SUMMARY:10:00 Crochet Class
DESCRIPTION:
URL:https://www.randolphcountyseniorcenter.com/event/1000-crochet-class-4/2025-06-27/
CATEGORIES:Activities
END:VEVENT
BEGIN:VEVENT
DTSTART;VALUE=DATE:20250627
DTEND;VALUE=DATE:20250628
DTSTAMP:20260419T203100
CREATED:20250603T141558Z
LAST-MODIFIED:20250603T141558Z
UID:10017874-1750982400-1751068799@www.randolphcountyseniorcenter.com
SUMMARY:12:30 Bridge
DESCRIPTION:
URL:https://www.randolphcountyseniorcenter.com/event/1230-bridge-4/2025-06-27/
CATEGORIES:Activities
END:VEVENT
END:VCALENDAR